BEGIN:VCALENDAR
VERSION:2.0
PRODID:-//BFT//NONSGML v1.0//EN
CALSCALE:GREGORIAN
BEGIN:VEVENT
UID:00db2f82df1ff0073ce30815fdbe5517
DTSTAMP:1776886764
LOCATION:Germany
DESCRIPTION:
URL;VALUE=URI:
SUMMARY:mrp hotels quarterly: Asset Management – Outlook, Priorities, Potential
DTSTART:20260429T140000
DTEND:20260429T150000
END:VEVENT
END:VCALENDAR
