BEGIN:VCALENDAR
VERSION:2.0
PRODID:-//BFT//NONSGML v1.0//EN
CALSCALE:GREGORIAN
BEGIN:VEVENT
UID:17746b6b7bb0de10248a59ed5767e106
DTSTAMP:1776886544
LOCATION:Germany
DESCRIPTION:
URL;VALUE=URI:
SUMMARY:Deadlines instead of never-ending projects: Planning certainty in project development
DTSTART:20260505T110000
DTEND:20260505T113000
END:VEVENT
END:VCALENDAR
